BEGIN:VCALENDAR
VERSION:2.0
PRODID:-//Georgia Association of Zoning Administrators - ECPv6.15.18//NONSGML v1.0//EN
CALSCALE:GREGORIAN
METHOD:PUBLISH
X-ORIGINAL-URL:https://gazoning.org
X-WR-CALDESC:Events for Georgia Association of Zoning Administrators
REFRESH-INTERVAL;VALUE=DURATION:PT1H
X-Robots-Tag:noindex
X-PUBLISHED-TTL:PT1H
BEGIN:VTIMEZONE
TZID:America/New_York
BEGIN:DAYLIGHT
TZOFFSETFROM:-0500
TZOFFSETTO:-0400
TZNAME:EDT
DTSTART:20190310T070000
END:DAYLIGHT
BEGIN:STANDARD
TZOFFSETFROM:-0400
TZOFFSETTO:-0500
TZNAME:EST
DTSTART:20191103T060000
END:STANDARD
BEGIN:DAYLIGHT
TZOFFSETFROM:-0500
TZOFFSETTO:-0400
TZNAME:EDT
DTSTART:20200308T070000
END:DAYLIGHT
BEGIN:STANDARD
TZOFFSETFROM:-0400
TZOFFSETTO:-0500
TZNAME:EST
DTSTART:20201101T060000
END:STANDARD
BEGIN:DAYLIGHT
TZOFFSETFROM:-0500
TZOFFSETTO:-0400
TZNAME:EDT
DTSTART:20210314T070000
END:DAYLIGHT
BEGIN:STANDARD
TZOFFSETFROM:-0400
TZOFFSETTO:-0500
TZNAME:EST
DTSTART:20211107T060000
END:STANDARD
END:VTIMEZONE
BEGIN:VEVENT
DTSTART;TZID=America/New_York:20200206T030000
DTEND;TZID=America/New_York:20200207T120000
DTSTAMP:20260422T034410
CREATED:20191010T224530Z
LAST-MODIFIED:20191203T204702Z
UID:524-1580958000-1581076800@gazoning.org
SUMMARY:GAZA Winter 2020 Conference
DESCRIPTION:We’re excited to hold the GAZA Winter 2020 Conference at the Great Wolf Lodge in LaGrange! Conference times\, agenda\, speakers and more information coming soon. Please check back for updates! \nClick here to register
URL:https://gazoning.org/event/gaza-winter-2020-conference/
LOCATION:Great Wolf Lodge\, 150 Tom Hall Pkwy\, Lagrange\, 30240\, United States
END:VEVENT
END:VCALENDAR