BEGIN:VCALENDAR
VERSION:2.0
PRODID:-//Georgia Association of Zoning Administrators - ECPv6.15.18//NONSGML v1.0//EN
CALSCALE:GREGORIAN
METHOD:PUBLISH
X-WR-CALNAME:Georgia Association of Zoning Administrators
X-ORIGINAL-URL:https://gazoning.org
X-WR-CALDESC:Events for Georgia Association of Zoning Administrators
REFRESH-INTERVAL;VALUE=DURATION:PT1H
X-Robots-Tag:noindex
X-PUBLISHED-TTL:PT1H
BEGIN:VTIMEZONE
TZID:America/New_York
BEGIN:DAYLIGHT
TZOFFSETFROM:-0500
TZOFFSETTO:-0400
TZNAME:EDT
DTSTART:20190310T070000
END:DAYLIGHT
BEGIN:STANDARD
TZOFFSETFROM:-0400
TZOFFSETTO:-0500
TZNAME:EST
DTSTART:20191103T060000
END:STANDARD
BEGIN:DAYLIGHT
TZOFFSETFROM:-0500
TZOFFSETTO:-0400
TZNAME:EDT
DTSTART:20200308T070000
END:DAYLIGHT
BEGIN:STANDARD
TZOFFSETFROM:-0400
TZOFFSETTO:-0500
TZNAME:EST
DTSTART:20201101T060000
END:STANDARD
BEGIN:DAYLIGHT
TZOFFSETFROM:-0500
TZOFFSETTO:-0400
TZNAME:EDT
DTSTART:20210314T070000
END:DAYLIGHT
BEGIN:STANDARD
TZOFFSETFROM:-0400
TZOFFSETTO:-0500
TZNAME:EST
DTSTART:20211107T060000
END:STANDARD
END:VTIMEZONE
BEGIN:VEVENT
DTSTART;VALUE=DATE:20200326
DTEND;VALUE=DATE:20200329
DTSTAMP:20260422T001212
CREATED:20200214T062119Z
LAST-MODIFIED:20200214T062119Z
UID:633-1585252800-1585425599@gazoning.org
SUMMARY:Georgia Land Bank Retreat & Training
DESCRIPTION:Georgia Land Bank Retreat & Training Brochure
URL:https://gazoning.org/event/georgia-land-bank-retreat-training/
LOCATION:Windsor Hotel\, 125 W Lamar St\, Americus\, GA\, 31709\, United States
END:VEVENT
END:VCALENDAR