BEGIN:VCALENDAR
VERSION:2.0
PRODID:-//Georgia Association of Zoning Administrators - ECPv6.15.18//NONSGML v1.0//EN
CALSCALE:GREGORIAN
METHOD:PUBLISH
X-WR-CALNAME:Georgia Association of Zoning Administrators
X-ORIGINAL-URL:https://gazoning.org
X-WR-CALDESC:Events for Georgia Association of Zoning Administrators
REFRESH-INTERVAL;VALUE=DURATION:PT1H
X-Robots-Tag:noindex
X-PUBLISHED-TTL:PT1H
BEGIN:VTIMEZONE
TZID:America/New_York
BEGIN:DAYLIGHT
TZOFFSETFROM:-0500
TZOFFSETTO:-0400
TZNAME:EDT
DTSTART:20200308T070000
END:DAYLIGHT
BEGIN:STANDARD
TZOFFSETFROM:-0400
TZOFFSETTO:-0500
TZNAME:EST
DTSTART:20201101T060000
END:STANDARD
BEGIN:DAYLIGHT
TZOFFSETFROM:-0500
TZOFFSETTO:-0400
TZNAME:EDT
DTSTART:20210314T070000
END:DAYLIGHT
BEGIN:STANDARD
TZOFFSETFROM:-0400
TZOFFSETTO:-0500
TZNAME:EST
DTSTART:20211107T060000
END:STANDARD
BEGIN:DAYLIGHT
TZOFFSETFROM:-0500
TZOFFSETTO:-0400
TZNAME:EDT
DTSTART:20220313T070000
END:DAYLIGHT
BEGIN:STANDARD
TZOFFSETFROM:-0400
TZOFFSETTO:-0500
TZNAME:EST
DTSTART:20221106T060000
END:STANDARD
END:VTIMEZONE
BEGIN:VEVENT
DTSTART;TZID=America/New_York:20210218T040000
DTEND;TZID=America/New_York:20210218T110000
DTSTAMP:20260421T053920
CREATED:20210129T020315Z
LAST-MODIFIED:20210129T020315Z
UID:730-1613620800-1613646000@gazoning.org
SUMMARY:Planning & Zoning 102: Civic Engagement
DESCRIPTION:All appointed board and commission members\, and planning staff should attend this training. \nIn this course participants will learn about community engagement\, including how to conduct and handle problems at meetings as well as broader strategies for involvement. The course includes the use of case studies\, group work\, and discussion to facilitate understanding. \nYou will focus on: \n\nbroader context of civic health and community\nmethods to handle contentious public hearings\noutreach and engagement strategies\n\nView more information.
URL:https://gazoning.org/event/planning-zoning-102-civic-engagement/
LOCATION:UGA Gwinnett Campus\, 2530 Sever Rd\, Lawrenceville\, GA\, 30043\, United States
END:VEVENT
END:VCALENDAR